BEGIN:VCALENDAR
PRODID:-//MatrixMaxx//RemoteApi//EN
VERSION:2.0
METHOD:PUBLISH
CALSCALE:GREGORIAN
X-ORIGINAL-URL:http://www.dsa.org/forms/meeting/Microsite/2018CIF
BEGIN:VEVENT
SUMMARY:2018 Companies in Focus
LAST-MODIFIED:20180416T190000Z
UID:ci_61024B000002B8@matrixgroup.net
CLASS:PUBLIC
CREATED:20180416T190000Z
DTSTAMP:20180416T190000Z
DTSTART:20180416T190000Z
X-FUNAMBOL-ALLDAY:1
LOCATION:Amway+Grand+Plaza
DESCRIPTION:For+full+info+see+http%3A%2F%2Fwww.dsa.org%2Fforms%2Fmeeting%2FMicrosite%2F2018CIF%0A
X-WR-CALDESC:For+full+info+see+http%3A%2F%2Fwww.dsa.org%2Fforms%2Fmeeting%2FMicrosite%2F2018CIF%0A
X-WR-CALNAME:Maxx Calendar
DTEND:20180417T220000Z
URL:http://www.dsa.org/forms/meeting/Microsite/2018CIF
END:VEVENT
END:VCALENDAR