BEGIN:VCALENDAR
PRODID:-//MatrixMaxx//RemoteApi//EN
VERSION:2.0
METHOD:PUBLISH
CALSCALE:GREGORIAN
X-ORIGINAL-URL:http://www.dsa.org/forms/meeting/MeetingFormPublic/view?id=BCB6900000061
BEGIN:VEVENT
SUMMARY:DSA Ethics and Self-Regulation Committee Conference Call
LAST-MODIFIED:20110707
UID:ci_BCB6900000061@matrixgroup.net
CLASS:PUBLIC
CREATED:20110707
DTSTAMP:20110707
DTSTART:20110707
X-FUNAMBOL-ALLDAY:1
LOCATION:
DESCRIPTION:For+full+info+see+http%3A%2F%2Fwww.dsa.org%2Fforms%2Fmeeting%2FMeetingFormPublic%2Fview%3Fid%3DBCB6900000061%0A
X-WR-CALDESC:For+full+info+see+http%3A%2F%2Fwww.dsa.org%2Fforms%2Fmeeting%2FMeetingFormPublic%2Fview%3Fid%3DBCB6900000061%0A
X-WR-CALNAME:Maxx Calendar
DTEND:20110708
URL:http://www.dsa.org/forms/meeting/MeetingFormPublic/view?id=BCB6900000061
END:VEVENT
END:VCALENDAR