BEGIN:VCALENDAR
PRODID:-//MatrixMaxx//RemoteApi//EN
VERSION:2.0
METHOD:PUBLISH
CALSCALE:GREGORIAN
X-ORIGINAL-URL:http://www.dsa.org/forms/meeting/MeetingFormPublic/view?id=C69080000017F
BEGIN:VEVENT
SUMMARY:Government Relations Committee Conference Call
LAST-MODIFIED:20110808
UID:ci_C69080000017F@matrixgroup.net
CLASS:PUBLIC
CREATED:20110808
DTSTAMP:20110808
DTSTART:20110808
X-FUNAMBOL-ALLDAY:1
LOCATION:
DESCRIPTION:For full info see http://www.dsa.org/forms/meeting/MeetingFormPublic/view?id=C69080000017F\n
DTEND:20110809
URL:http://www.dsa.org/forms/meeting/MeetingFormPublic/view?id=C69080000017F
END:VEVENT
END:VCALENDAR