BEGIN:VCALENDAR
PRODID:-//MatrixMaxx//RemoteApi//EN
VERSION:2.0
METHOD:PUBLISH
CALSCALE:GREGORIAN
X-ORIGINAL-URL:http://www.dsa.org/forms/meeting/MeetingFormPublic/view?id=D191F00000174
BEGIN:VEVENT
SUMMARY:DSA Lawyers Council Conference Call
LAST-MODIFIED:20111013
UID:ci_D191F00000174@matrixgroup.net
CLASS:PUBLIC
CREATED:20111013
DTSTAMP:20111013
DTSTART:20111013
X-FUNAMBOL-ALLDAY:1
LOCATION:
DESCRIPTION:For full info see http://www.dsa.org/forms/meeting/MeetingFormPublic/view?id=D191F00000174\n
DTEND:20111014
URL:http://www.dsa.org/forms/meeting/MeetingFormPublic/view?id=D191F00000174
END:VEVENT
END:VCALENDAR